BEGIN:VCALENDAR
VERSION:2.0
PRODID:icalendar-ruby
CALSCALE:GREGORIAN
METHOD:PUBLISH
BEGIN:VEVENT
DTSTAMP:20260419T174045Z
UID:14-2185605@jcbcconroe.church
DTSTART:20260913T184500Z
DTEND:20260913T191500Z
CLASS:PUBLIC
CREATED:20260419T081451
DESCRIPTION:The New Member Experience\nA 4-Week Journey of Faith\, Family &
 amp\; Foundation\nSundays | 11:45 AM – 12:15 PM- (Following The Sunday M
 orning Vibe Worship Experience!)Jones Chapel-Conroe Campus\nWelcome to Jon
 es Chapel!\nBecoming a member of Jones Chapel isn't just about joining a c
 hurch\;  it's about becoming part of a family\, a community\, and a spiri
 tual movement rooted in faith\, love\, and biblical truth.\nWhether you're
  new to the faith\, returning to church\, or transferring your membership\
 , this class is designed to be more than just an introduction\;  it's a B
 iblical Foundation Refresher.\nYou and Pastor will reflect together on you
 r spiritual journey\, core beliefs\, and the importance of your role as a 
 new member of the Jones Chapel family.  This isn't about filling seats. 
  It's about building strong roots\, a deep connection\, and a kingdom pur
 pose.\nMEET YOUR INSTRUCTOR: PASTOR LENARD ALLEN JR.\nThat's right\; Pasto
 r Allen Jr. will personally lead this class!  With a dynamic teaching sty
 le\, deep biblical knowledge\, and a heart for people\, Pastor Allen will 
 walk with you each week to ensure your start at Jones Chapel is solid\, si
 ncere\, and Spirit-led.\nThis experience isn't just teaching\; it's discip
 leship from the shepherd of the house himself.\nAnd don't be surprised whe
 n he laughs with you\, prays with you\, and challenges you to go deeper. 
  Pastor Allen believes you matter\, and he's committed to helping every n
 ew member grow stronger in the Word and more confident in their walk.\n  
              Class Overview – What You'll Cover Each Week\nWEEK 1
 : WHO ARE WE?\nUnderstanding the Vision\, Mission &amp\; History of Jones 
 Chapel\n\n\nOur Story\, Our Structure\, Our Standards\n\n\nWhat We Believe
  and Why (Biblical Doctrines Made Simple)\n\n\nPastor's Vision for the Fut
 ure\n\n\nWhat It Means to Be Part of a Church Family\n\n\nWhy Membership M
 atters\n\n\nWEEK 2: WHO IS JESUS?\nThe Foundation of Our Faith\n\n\nWho Je
 sus Is and Why He Matters\n\n\nUnderstanding Salvation by Grace Through Fa
 ith\n\n\nWhat Happens When You're Saved?\n\n\nBaptism: What It Is and Why 
 We Do It\n\n\nAssurance of Salvation: Can I Lose It?\n\n\nWEEK 3: WHAT'S E
 XPECTED OF ME?\nLiving as a Christ-Follower and Church Member\n\n\nThe Bas
 ics of Christian Living (Prayer\, Bible Study\, Worship)\n\n\nExpectations
  of Jones Chapel Members\n\n\nThe Power of Tithing &amp\; Generous Giving\
 n\n\nServing with Purpose: Your Role in the Ministry\n\n\nAccountability\,
  Discipleship &amp\; Growth\n\n\nWEEK 4: WHERE DO I FIT?\nYour Gifts\, You
 r Calling\, Your Next Steps\n\n\nDiscovering Your Spiritual Gifts\n\n\nFin
 ding Your Place in Ministry\n\n\nStaying Connected &amp\; Plugged In\n\n\n
 Navigating Church Life: Leadership\, Auxiliaries\, and Fellowship\n\n\nGra
 duation\, Welcome\, and What's Next!\n\n\nWhat You'll Walk Away With\n\n\n
 A strong biblical foundation\; so you're rooted\, not shaken\n\n\nA clear 
 understanding of your salvation\n\n\nConfidence to explain what you believ
 e and why\n\n\nReal connection with your church family\n\n\nCourage to liv
 e out your faith with boldness and clarity\n\n\n \n“Every word of God i
 s pure\; He is a shield to those who put their trust in Him.” – Prover
 bs 30:5\nJoin the Family.  Walk in Purpose.\nThis experience is for every
  new member\, regardless of your background\, church history\, or spiritua
 l level.You'll laugh\, learn\, connect\, and grow while discovering the he
 art of Jones Chapel and the God who brought you here.\nSundays at 11:45 AM
  – Led by Pastor Lenard Allen Jr.\nCome ready to grow.Come prepared to c
 onnect.Come ready to be transformed.\nWelcome to the Movement.  Welcome t
 o the Family.\n
LAST-MODIFIED:20260419T081451
LOCATION:Jones Chapel Baptist Church
SUMMARY:The New Member Experience
URL;VALUE=URI:https://www.jcbcconroe.church/events/the-new-member-experienc
 e/2026-09-13
ATTACH;FILENAME=_c427dda2-de4e-4685-8d18-aefb34600929.jpeg;FMTTYPE=image/jp
 eg:https://dq5pwpg1q8ru0.cloudfront.net/2025/02/27/16/28/31/be114a41-9514-
 464b-9275-55546b84ffbf/_c427dda2-de4e-4685-8d18-aefb34600929.jpeg
ATTACH;FILENAME=_3b4de5f8-dea8-4e5e-8753-93b55f1f5236.jpeg;FMTTYPE=image/jp
 eg:https://dq5pwpg1q8ru0.cloudfront.net/2025/02/27/16/28/31/ebe60bf2-d4ef-
 4c89-b941-c88e7bd00972/_3b4de5f8-dea8-4e5e-8753-93b55f1f5236.jpeg
ATTACH;FILENAME=_a604c4c1-1c69-4c1d-ade2-faf9f065fe56.jpeg;FMTTYPE=image/jp
 eg:https://dq5pwpg1q8ru0.cloudfront.net/2025/02/27/16/28/32/4c5fbcf8-eb1d-
 46ec-acc4-0aeed87ecafe/_a604c4c1-1c69-4c1d-ade2-faf9f065fe56.jpeg
END:VEVENT
END:VCALENDAR
