BEGIN:VCALENDAR
VERSION:2.0
PRODID:icalendar-ruby
CALSCALE:GREGORIAN
METHOD:PUBLISH
BEGIN:VEVENT
DTSTAMP:20260420T042835Z
UID:12-2187556@jcbcconroe.church
DTSTART:20261101T180000Z
DTEND:20261101T193000Z
CLASS:PUBLIC
CREATED:20260419T191924
DESCRIPTION:Come worship with us and experience where the culture is changi
 ng and the VIBE is real.
LAST-MODIFIED:20260419T191924
LOCATION:Jones Chapel Baptist Church-Conroe
SUMMARY:The Sunday Morning Vibe 
URL;VALUE=URI:https://www.jcbcconroe.church/events/the-sunday-morning-vibe/
 2026-11-01
ATTACH;FILENAME=photo-1508829040592-72f179f8a73f.jpg;FMTTYPE=image/jpeg:htt
 ps://dq5pwpg1q8ru0.cloudfront.net/2021/05/28/11/48/36/a2230f5f-9995-4ef9-8
 897-0b8601f24ed8/photo-1508829040592-72f179f8a73f.jpg
END:VEVENT
END:VCALENDAR
